BEGIN:VCALENDAR
VERSION:2.0
PRODID:Granicus Glen Calendar Creator
METHOD:PUBLISH
BEGIN:VEVENT
DTSTAMP:20260410T134104
DTSTART:20251227T000000
DTEND:20251227T235900
SUMMARY:Test for Workflow
DESCRIPTION:
X-ALT-DESC;FMTTYPE=text/html:
LOCATION:
CLASS:PUBLIC
END:VEVENT
END:VCALENDAR
